BEGIN:VCALENDAR
VERSION:2.0
PRODID:-//Highline Autos - Your source for distinguished automobiles - ECPv6.15.18//NONSGML v1.0//EN
CALSCALE:GREGORIAN
METHOD:PUBLISH
X-ORIGINAL-URL:https://www.highline-autos.com
X-WR-CALDESC:Events for Highline Autos - Your source for distinguished automobiles
REFRESH-INTERVAL;VALUE=DURATION:PT1H
X-Robots-Tag:noindex
X-PUBLISHED-TTL:PT1H
BEGIN:VTIMEZONE
TZID:America/Phoenix
BEGIN:STANDARD
TZOFFSETFROM:-0700
TZOFFSETTO:-0700
TZNAME:MST
DTSTART:20230101T000000
END:STANDARD
END:VTIMEZONE
BEGIN:VEVENT
DTSTART;TZID=America/Phoenix:20241116T100000
DTEND;TZID=America/Phoenix:20241116T140000
DTSTAMP:20260421T042458
CREATED:20241105T013703Z
LAST-MODIFIED:20241105T014003Z
UID:10000509-1731751200-1731765600@www.highline-autos.com
SUMMARY:The Toy Barn's Fall Cars & Coffee Open House at their Chandler Airpark Location
DESCRIPTION:Cars & Coffee Fueled By: The Toy Barn \nChandler Airpark North Invites You to a Special Fall Cars & Coffee Open House! \nFree Coffee | Free Burritos | Free Pastries \nWhen: November 16th\, 2924 – 10 AM – 2 PM \nWhere: 2165 S Douglas Dr\, Chandler\, AZ 85286 \n 
URL:https://www.highline-autos.com/event/the-toy-barns-fall-cars-coffee-open-house-at-their-chandler-airpark-location/
LOCATION:The Toy Barn – Chandler Airpark North\, 2165 S Douglas Dr\, Chandler\, AZ\, 85286
CATEGORIES:Auto Show
ATTACH;FMTTYPE=image/jpeg:https://www.highline-autos.com/wp-content/uploads/2024/11/TB-CA-Event-Header-Square_05.1.jpg
END:VEVENT
END:VCALENDAR