BEGIN:VCALENDAR
VERSION:2.0
PRODID:-//Highline Autos - Your source for distinguished automobiles - ECPv6.15.18//NONSGML v1.0//EN
CALSCALE:GREGORIAN
METHOD:PUBLISH
X-ORIGINAL-URL:https://www.highline-autos.com
X-WR-CALDESC:Events for Highline Autos - Your source for distinguished automobiles
REFRESH-INTERVAL;VALUE=DURATION:PT1H
X-Robots-Tag:noindex
X-PUBLISHED-TTL:PT1H
BEGIN:VTIMEZONE
TZID:America/Phoenix
BEGIN:STANDARD
TZOFFSETFROM:-0700
TZOFFSETTO:-0700
TZNAME:MST
DTSTART:20210101T000000
END:STANDARD
END:VTIMEZONE
BEGIN:VEVENT
DTSTART;TZID=America/Phoenix:20220403T073000
DTEND;TZID=America/Phoenix:20220403T113000
DTSTAMP:20260421T070523
CREATED:20220321T204421Z
LAST-MODIFIED:20220321T205024Z
UID:10000116-1648971000-1648985400@www.highline-autos.com
SUMMARY:Copperstate 1000 Sendoff
DESCRIPTION:Join Us Sunday\, April 3\, 2022 from 7:30 am to 11:30 am at Tempe Diablo Stadium to view 85+ Vintage Copperstate Cars on the baseball field and show your Specialty Car in the West Lot! Admission is free and Ball Park Concession Stands will be Open to the Public. \nTempe Diablo Stadium\n2200 West Alameda Drive\nTempe\, AZ 85282 \n85+ Vintage Copperstate Cars on Display \nShow Your Speciality Car and Park in the West Lot! \nBall Park Concession Stands Open to the Public \nCopperstate 1000 Cars Start Departing at 10:00 am \nClick Link for more information on the Coperstate 1000: https://mensartscouncil.com/copperstate-1000
URL:https://www.highline-autos.com/event/copperstate-1000-sendoff/
LOCATION:Tempe Diablo Stadium\, 2200 West Alameda Drive\, Tempe\, AZ\, 85282\, United States
CATEGORIES:Auto Show
ATTACH;FMTTYPE=image/jpeg:https://www.highline-autos.com/wp-content/uploads/2022/03/Copperstate_1000_Event_Flyer_2022.jpg
END:VEVENT
END:VCALENDAR