BEGIN:VCALENDAR
VERSION:2.0
PRODID:-//Highline Autos - Your source for distinguished automobiles - ECPv6.15.18//NONSGML v1.0//EN
CALSCALE:GREGORIAN
METHOD:PUBLISH
X-WR-CALNAME:Highline Autos - Your source for distinguished automobiles
X-ORIGINAL-URL:https://www.highline-autos.com
X-WR-CALDESC:Events for Highline Autos - Your source for distinguished automobiles
REFRESH-INTERVAL;VALUE=DURATION:PT1H
X-Robots-Tag:noindex
X-PUBLISHED-TTL:PT1H
BEGIN:VTIMEZONE
TZID:America/Phoenix
BEGIN:STANDARD
TZOFFSETFROM:-0700
TZOFFSETTO:-0700
TZNAME:MST
DTSTART:20240101T000000
END:STANDARD
END:VTIMEZONE
BEGIN:VEVENT
DTSTART;TZID=America/Phoenix:20250412T180000
DTEND;TZID=America/Phoenix:20250412T210000
DTSTAMP:20260421T040608
CREATED:20250401T224303Z
LAST-MODIFIED:20250401T224805Z
UID:10000526-1744480800-1744491600@www.highline-autos.com
SUMMARY:Strad Pizza Grand Opening April 12th
DESCRIPTION:Strad Pizza Grand Opening on April 12th in North Scottsdale\, Arizona \nEntrepreneur and hospitality industry veteran\, Freddy Nguyen\, has partnered with supercar enthusiast and well-known YouTuber\, James “The Stradman\,” to co-create Strad Pizza. Located on Scottsdale and Thunderbird Roads\, the pizzeria concept will celebrate its official grand opening on Saturday\, April 12 from 6-9 p.m. \nAptly named after The Stradman\, Strad Pizza offers an edgy twist on classic New York style slice pizza with a side of supercars. Offering 1\,215 square feet of space\, the interior is sleek and streamlined with pops of bright colors and neon lighting throughout. The layout offers an updated take on the traditional pizza parlor with guests ordering at the counter and grabbing a seat at the long bar. A sleek garage door opens to provide an indoor/outdoor ambience that completes the elevated and trendy fast causal vibe. \nStrad Pizza will hold an official grand opening event on Saturday\, April 12 from 6-9 p.m. The “Cars & Pizza” themed evening will be open to the public and will include a supercar show in partnership with presenting sponsor Highline Autos\, DJ 2 Nice U\, pizza and soft drinks\, special Strad Pizza merch\, and of course\, an appearance by The Stradman. \nStrad Pizza is located at 13802 N. Scottsdale Road\, Scottsdale\, AZ 85254. \nFor more information about Strad Pizza\, visit: www.stradpizza.com
URL:https://www.highline-autos.com/event/strad-pizza-grand-opening/
LOCATION:Strad Pizza\, 13802 North Scottsdale Road\, Suite 165\, Scottsdale\, AZ\, 85254\, United States
CATEGORIES:Auto Show
ATTACH;FMTTYPE=image/jpeg:https://www.highline-autos.com/wp-content/uploads/2025/04/strad-pizza-grand-opening.jpeg
END:VEVENT
END:VCALENDAR