BEGIN:VCALENDAR
VERSION:2.0
PRODID:-//Highline Autos - Your source for distinguished automobiles - ECPv6.15.18//NONSGML v1.0//EN
CALSCALE:GREGORIAN
METHOD:PUBLISH
X-WR-CALNAME:Highline Autos - Your source for distinguished automobiles
X-ORIGINAL-URL:https://www.highline-autos.com
X-WR-CALDESC:Events for Highline Autos - Your source for distinguished automobiles
REFRESH-INTERVAL;VALUE=DURATION:PT1H
X-Robots-Tag:noindex
X-PUBLISHED-TTL:PT1H
BEGIN:VTIMEZONE
TZID:America/Phoenix
BEGIN:STANDARD
TZOFFSETFROM:-0700
TZOFFSETTO:-0700
TZNAME:MST
DTSTART:20240101T000000
END:STANDARD
END:VTIMEZONE
BEGIN:VEVENT
DTSTART;TZID=America/Phoenix:20250322T170000
DTEND;TZID=America/Phoenix:20250322T210000
DTSTAMP:20260419T053054
CREATED:20250220T200733Z
LAST-MODIFIED:20250220T202526Z
UID:10000523-1742662800-1742677200@www.highline-autos.com
SUMMARY:Arizona Jet Center Event 2025
DESCRIPTION:The Arizona Jet Center Event is back for its 8th year! \nAngel Flight West Benefit  Arizona Jet Center Hangar Party 2025 \nSaturday March 22\, 2025 5-9 pm\nLocated at Southwest Aero Hangar | Scottsdale Airport 14600 N Airport Dr\, Scottsdale AZ \nAn All Inclusive Evening\nDinner\, hosted bar\, live music\, live and silent auctions\, amazing aircraft\, exceptional cars\, fine art and more! \nIndulge in an unforgettable evening of luxury and philanthropy with this all-inclusive event. Treat yourself to a reception\, elegant dinner\, open bar\, and live music in a glamorous setting. Experience the thrill of mingling among exotic and collector cars\, all while supporting the important mission of Angel Flight West. Your ticket unlocks a night to remember\, complete with top-tier entertainment\, gourmet dining\, and the chance to make a difference in the lives of those in need. Join us for a night of elegance and generosity\, where every moment is as priceless as the cause you support. \nWhen purchasing tickets use promo code HA25 for special rate \nCLICK Link For More Information and to purchase your tickets today before they sell out! https://jetcenterevents.com \n—— \n2025 Event Benefactors:\n-Angel Flight West: angelflightwest.org \nAngel Flight West\nAngel Flight West delivers health and hope using donated flights to serve those with healthcare or other compelling human needs. In the air\, Angel Flight West links volunteer pilots and commercial airlines with people whose non-emergency health needs require long-distance travel to access care. On the ground\, volunteer drivers ferry passengers to and from their departure and destination airports. \nThe Jet Center Foundation is a 501c3 non profit organization that creates and produces jet hangar lifestyle events to raise funds for selected charities.  Each unique event features private jets\, exotic cars\, gourmet food\, fine wines\, top shelf spirits\, live music\, international fashions and a wonderful evening of enjoying the best things in life. \nOur events have raised money for a variety of charitable organizations with the goal that we raise the money do that they can focus on doing the community good things that they do best.  Our sponsor partners provide opportunities for attendees to receive premium items while boosting the contributions from each event to the benefactors.
URL:https://www.highline-autos.com/event/arizona-jet-center-event-2025/
LOCATION:Southwest Aero Hangar\, 14600 North Airport Drive\, Scottsdale\, AZ\, 85260\, United States
CATEGORIES:Charity Event
ATTACH;FMTTYPE=image/jpeg:https://www.highline-autos.com/wp-content/uploads/2025/02/AZ-Jet-Center-Event-2025.jpg
END:VEVENT
END:VCALENDAR