BEGIN:VCALENDAR
VERSION:2.0
PRODID:-//Highline Autos - Your source for distinguished automobiles - ECPv6.15.18//NONSGML v1.0//EN
CALSCALE:GREGORIAN
METHOD:PUBLISH
X-ORIGINAL-URL:https://www.highline-autos.com
X-WR-CALDESC:Events for Highline Autos - Your source for distinguished automobiles
REFRESH-INTERVAL;VALUE=DURATION:PT1H
X-Robots-Tag:noindex
X-PUBLISHED-TTL:PT1H
BEGIN:VTIMEZONE
TZID:America/Phoenix
BEGIN:STANDARD
TZOFFSETFROM:-0700
TZOFFSETTO:-0700
TZNAME:MST
DTSTART:20210101T000000
END:STANDARD
END:VTIMEZONE
BEGIN:VEVENT
DTSTART;VALUE=DATE:20220126
DTEND;VALUE=DATE:20220127
DTSTAMP:20260419T113626
CREATED:20220105T000523Z
LAST-MODIFIED:20220105T005717Z
UID:10000108-1643155200-1643241599@www.highline-autos.com
SUMMARY:Worldwide Auctioneers Scottsdale Auction 2022
DESCRIPTION:Preview Monday\, January 24 thru Wednesday\, January 26\nPreview of Auction Cars from 9am to 6pm – Preview and test drive (by appointment) the auction cars and meet with representatives of the Worldwide Auctioneers’ team onsite to answer questions about this year’s selection of vehicles prior to the auction. Auction Office and Bidder Registration from 9am to 6pm. \n——\nAuction Day •  Wednesday\, January 26\nVIP Reception • 3 PM – 5 PM • VIP Reception – Open Bidder Bar\nLive Auction Starts at 5 pm \n——\nBidder Registration with Catalogue: $150\nBidder registration for the opportunity to bid and purchase vehicles and memorabilia at The Scottsdale Auction.\nIncludes bidder paddle\, one auction catalogue\, and admission for two to the auction as well as two all-day preview passes. \n——\nAdmission to Auction with Catalogue: $100\nIncludes one auction catalogue and admission for two to the auction as well as two all-day preview passes.\nSeating during the auction is for Consignors\, Registered Bidders\, Ticket Holders\, Guests\, and Credentialed Media only. \n——\nSpectator Admission to Preview Days & Auction Without Catalogue: $25\nPer person for all preview days (Jan. 24-26) and general admission to the auction (Jan. 26) with limited seating. A printed catalogue is NOT included. \n——\nSpectator Admission to Auction Without Catalogue: $15\nPer person general admission just the auction (Jan. 26) with limited seating. A printed catalogue is NOT included. \nAuction takes place at:\nSingh Meadows\n1490 E Weber Dr\nTempe\, AZ 85281 \nCLICK Link for more information and to view auction lots: https://worldwideauctioneers.com/scottsdale-auction-2022/
URL:https://www.highline-autos.com/event/worldwide-auctioneers-scottsdale-auction-2022/
LOCATION:Singh Meadows\, 1490 E Weber Dr\, Tempe\, AZ\, 85281\, United States
CATEGORIES:Auto Auction
ATTACH;FMTTYPE=image/jpeg:https://www.highline-autos.com/wp-content/uploads/2022/01/Worldwide_Auctioneers_Scottsdale_Auction_2022.jpg
END:VEVENT
END:VCALENDAR