BEGIN:VCALENDAR
VERSION:2.0
PRODID:-//Highline Autos - Your source for distinguished automobiles - ECPv6.15.18//NONSGML v1.0//EN
CALSCALE:GREGORIAN
METHOD:PUBLISH
X-ORIGINAL-URL:https://www.highline-autos.com
X-WR-CALDESC:Events for Highline Autos - Your source for distinguished automobiles
REFRESH-INTERVAL;VALUE=DURATION:PT1H
X-Robots-Tag:noindex
X-PUBLISHED-TTL:PT1H
BEGIN:VTIMEZONE
TZID:America/Phoenix
BEGIN:STANDARD
TZOFFSETFROM:-0700
TZOFFSETTO:-0700
TZNAME:MST
DTSTART:20230101T000000
END:STANDARD
END:VTIMEZONE
BEGIN:VEVENT
DTSTART;TZID=America/Phoenix:20240817T130000
DTEND;TZID=America/Phoenix:20240817T180000
DTSTAMP:20260419T114445
CREATED:20240621T013830Z
LAST-MODIFIED:20240717T012417Z
UID:10000193-1723899600-1723917600@www.highline-autos.com
SUMMARY:Exotics on Broadway 2024
DESCRIPTION:2024 Exotics on Broadway Saturday August 17th\, 1PM to 6PM \nFree For All Spectators \nSince our inaugural event in 2015\, Exotics On Broadway has grown from a small gathering of exotic and supercars\, to the largest single day attended event during Monterey Car Week. This unique event focused entirely on the Super\, Hyper and Exotic Car phenomenon is once again partnering with the city of Seaside\, CA in Monterey County\, to be able to provide an even greater fan experience for years to come. With the city of Seaside as our foundation and continued spectator FREE ADMISSION\, we have created a must-see event for auto enthusiasts of all ages\, collectors\, and new fans alike. A venue showcasing some of the rarest and exciting cars of our time\, the owners and personalities behind them\, alongside the manufacturers and companies that can take these cars to the next level in PERFORMANCE AND SHOWMANSHIP is the Exotics on Broadway experience. \nThe Exotics On Broadway team is very excited to announce our return in 2024. Seaside\, California provides us a platform primed for growth and excitement to even further enhance the fan experience. Exotics On Broadway genuinely appeals to Seaside because it is open to the public and has become the showcase of the rarest super and exotic cars in the world. \nEXOTICS ON BROADWAY 2024 LOCATION\nExotics On Broadway team is proud to continue working with the City of Seaside to bring back this year’s event to Broadway Ave\, between Del Monte Blvd and Fremont Blvd. We also have continued our expansion to Fremont Blvd\, between Broadway Ave and Amador Ave. We look forward to elevating our event and bringing you the best of what the automotive world has to offer. \nCLICK Link for More Information: www.exoticsonbroadway.com
URL:https://www.highline-autos.com/event/exotics-on-broadway-2024/
LOCATION:Seaside\, California 93955\, Broadway Avenue and Fremont Boulevard\, Seaside\, CA\, 93955\, United States
CATEGORIES:Auto Show
ATTACH;FMTTYPE=image/jpeg:https://www.highline-autos.com/wp-content/uploads/2024/06/Exotics-on-Broadway-2024-Monterey-Car-Week.jpg
END:VEVENT
END:VCALENDAR