BEGIN:VCALENDAR
VERSION:2.0
PRODID:-//Highline Autos - Your source for distinguished automobiles - ECPv6.15.18//NONSGML v1.0//EN
CALSCALE:GREGORIAN
METHOD:PUBLISH
X-WR-CALNAME:Highline Autos - Your source for distinguished automobiles
X-ORIGINAL-URL:https://www.highline-autos.com
X-WR-CALDESC:Events for Highline Autos - Your source for distinguished automobiles
REFRESH-INTERVAL;VALUE=DURATION:PT1H
X-Robots-Tag:noindex
X-PUBLISHED-TTL:PT1H
BEGIN:VTIMEZONE
TZID:America/Phoenix
BEGIN:STANDARD
TZOFFSETFROM:-0700
TZOFFSETTO:-0700
TZNAME:MST
DTSTART:20180101T000000
END:STANDARD
END:VTIMEZONE
BEGIN:VEVENT
DTSTART;TZID=America/Phoenix:20210213T073000
DTEND;TZID=America/Phoenix:20210213T100000
DTSTAMP:20260419T133406
CREATED:20210115T233135Z
LAST-MODIFIED:20210216T202108Z
UID:10000067-1613201400-1613210400@www.highline-autos.com
SUMMARY:Highline Autos Cars & Coffee at the Luxury Wing of Scottsdale Fashion Square Mall
DESCRIPTION:Join us February 13th for Highline Autos Cars & Coffee at the New Luxury Wing of Scottsdale Fashion Square Mall! 400+ Exotic\, Classic and Luxury vehicles and hundreds more spectators. Open to the public\, free to show cars and spectators\, plenty of parking and amenities! No Revving or Burnouts. Face Coverings are Mandatory at All Times. Limited Sponsorships and Premium Parking spaces Available\, email info@highline-autos.com for Details. \nYour Health and Safety is Top Priority. We encourage everyone to follow the CDC’s advice for preventative behaviors including:\n-Face masks are MANDATORY!\n-A mask will be provided to any guest who does not have one courtesy of OneArmor.\n-Hand Sanitizing and Disinfectant stations with formulas recommended by the CDC.\n-Practice Social Distancing.\n-Cleaning and disinfecting entrance door handles\, handrails and restrooms throughout the day.\n-Professional security staff focusing on promoting social distancing as well as mask-wearing. \n4736 North Goldwater Boulevard\, Scottsdale\, AZ 85251 \nVideo from our last Cars & Coffee can be found on our YouTube Channel: \n \nSponsors Include: \nMecum Auctions: www.mecum.com \nBondurant High Performance Driving School: www.bondurant.com \nOne Armor: www.onearmor.com \nAlien Donuts: www.aliendonuts.com \nTimeless Vapes: www.timelessvapes.com \nAZ Pro: www.azprogroup.com \nTaste of Motorsports: www.tasteofmotorsports.com \nNash Powersports: www.nashpowersports.com \nFirst Citizens Bank: www.firstcitizens.com \nValet Spa Scottsdale Fashion Square: www.valetspa.com \nLaunch Auto Sports: www.launchautosports.com
URL:https://www.highline-autos.com/event/highline-autos-cars-coffee-at-the-luxury-wing-of-scottsdale-fashion-square-mall-2/
LOCATION:Scottsdale Fashion Square\, 7014 East Camelback Road\, Scottsdale\, AZ\, 85251\, United States
CATEGORIES:Auto Show
ATTACH;FMTTYPE=image/jpeg:https://www.highline-autos.com/wp-content/uploads/2021/01/Highline_Autos_Cars_and_Coffee_February_13.jpg
END:VEVENT
BEGIN:VEVENT
DTSTART;TZID=America/Phoenix:20201205T073000
DTEND;TZID=America/Phoenix:20201205T223000
DTSTAMP:20260419T133406
CREATED:20201201T181342Z
LAST-MODIFIED:20201204T005951Z
UID:10000062-1607153400-1607207400@www.highline-autos.com
SUMMARY:Highline Autos Cars & Coffee at the Luxury Wing of Scottsdale Fashion Square Mall
DESCRIPTION:Join us December 5th for Highline Autos Cars & Coffee at the New Luxury Wing of Scottsdale Fashion Square Mall! 400+ Exotic\, Classic and Luxury vehicles and hundreds more spectators. Open to the public\, free to show cars and spectators\, plenty of parking and amenities! No Revving or Burnouts. Face Coverings are Mandatory at All Times. Limited Sponsorships and Premium Parking spaces Available\, email info@highline-autos.com for Details. \nYour Health and Safety is Top Priority. We encourage everyone to follow the CDC’s advice for preventative behaviors including:\n-Face masks are MANDATORY!\n-A mask will be provided to any guest who does not have one courtesy of OneArmor.\n-Hand Sanitizing and Disinfectant stations with formulas recommended by the CDC.\n-Practice Social Distancing.\n-Cleaning and disinfecting entrance door handles\, handrails and restrooms throughout the day.\n-Professional security staff focusing on promoting social distancing as well as mask-wearing. \n4736 North Goldwater Boulevard\, Scottsdale\, AZ 85251 \nVideo from our last Cars & Coffee can be found on our YouTube Channel: www.youtube.com/watch?v=0QqqsHaoQ9k&t=43s \nSponsors Include: \nAR500 Armor: www.ar500armor.com \nBang Energy: www.bangenergy.com \nBondurant High Performance Driving School: www.bondurant.com \nChampion Auto Lift: www.championautolift.com \nLawrence Motorsport: www.lawrencemotorsport.com \nOne Armor: www.onearmor.com
URL:https://www.highline-autos.com/event/highline-autos-cars-coffee-at-the-luxury-wing-of-scottsdale-fashion-square-mall/
LOCATION:Scottsdale Fashion Square\, 7014 East Camelback Road\, Scottsdale\, AZ\, 85251\, United States
CATEGORIES:Auto Show
ATTACH;FMTTYPE=image/jpeg:https://www.highline-autos.com/wp-content/uploads/2020/12/Highline_Autos_Cars_and_Coffee_Sponsors_2.jpg
END:VEVENT
BEGIN:VEVENT
DTSTART;TZID=America/Phoenix:20201003T070000
DTEND;TZID=America/Phoenix:20201003T110000
DTSTAMP:20260419T133406
CREATED:20200901T232112Z
LAST-MODIFIED:20201027T230048Z
UID:10000055-1601708400-1601722800@www.highline-autos.com
SUMMARY:Highline Autos and Scottsdale Fashion Square present Cars and Coffee!
DESCRIPTION:Join us October 3rd\, 2020 from 7 am to 11 am at Scottsdale Fashion Square’s New Luxury Wing \n250+ Exotic\, Classic and Luxury vehicles and hundreds more spectators \nOpen to the public\, free to show cars and spectators\, plenty of parking\, live DJ\, and amenities \n4736 North Goldwater Boulevard\, Scottsdale\, AZ 85251 \nwww.fashionsquare.com \nYour Health and Safety is Top Priority. We encourage everyone to follow the CDC’s advice for preventative behaviors including: \n-Face masks are required\, Except individuals with underlying health conditions or those age 6 and younger. \n-A mask will be provided to any guest who does not have one courtesy of OneArmor. \n-Hand Sanitizing and Disinfectant stations with formulas recommended by the CDC. \n-Practice Social Distancing. \n-Cleaning and disinfecting entrance door handles\, handrails and restrooms throughout the day. \n-Professional security staff focusing on promoting social distancing as well as mask-wearing.
URL:https://www.highline-autos.com/event/highline-autos-and-scottsdale-fashion-square-present-cars-and-coffee/
LOCATION:Scottsdale Fashion Square\, 7014 East Camelback Road\, Scottsdale\, AZ\, 85251\, United States
CATEGORIES:Auto Show
ATTACH;FMTTYPE=image/jpeg:https://www.highline-autos.com/wp-content/uploads/2020/09/Highline_Autos_Cars_And_Coffee_October_2-1.jpg
END:VEVENT
BEGIN:VEVENT
DTSTART;VALUE=DATE:20190117
DTEND;VALUE=DATE:20190120
DTSTAMP:20260419T133406
CREATED:20181113T193744Z
LAST-MODIFIED:20181115T130441Z
UID:10000012-1547719200-1547891999@www.highline-autos.com
SUMMARY:Gooding & Company The Scottsdale Auctions
DESCRIPTION:Gooding & Company\, The Scottsdale Auctions \nJanuary 18 & 19\, 2019 \nArizona is an ideal winter destination\, and each January Scottsdale hosts a thriving automotive marketplace adjacent to the Fashion Square Mall and charming Old Town Scottsdale. Gooding & Company has brought a refined approach to this lively and well‑established event\, offering stunning vehicles across marques and eras. When our viewing showcase opens on Wednesday of Arizona Auction Week\, enthusiasts will be able to enjoy the high‑quality assortment of vehicles up for auction and connect with fellow collectors and Gooding & Company’s auction experts. Over the past decade in Scottsdale\, Gooding & Company has consistently raised the bar for the collector‑car year\, with records that reset the market. Our exceptional offerings often become the talk of the town and beyond. \nLocation:\nScottsdale Fashion Square\n4700 N. Scottsdale Road\nCorner of N. Scottsdale Road and E. Highland Ave. \nViewing:\nWednesday\, January 16\n9:00am – 6:00pm\nThursday\, January 17\n9:00am – 6:00pm\nFriday\, January 18\n9:00am – 6:00pm\nSaturday\, January 19\n9:00am – 5:00pm \nAuction:\nFriday\, January 18\n11:00am\nSaturday\, January 19\n11:00am \nAdmittance:\nAdmittance – $40\, admits one to all events\nCatalogue – $100\, admits two to all events\nCash or credit card only\nChildren under 12 free \nBidder Registration:\n$200 includes a catalogue\, admission for two to the viewing and auction with two reserved seats\, subject to availability. \nOn-Site Contact Information:\nTelephone: 310.899.1960\nFax: 310.526.6594\nEmail: info@goodingco.com
URL:https://www.highline-autos.com/event/gooding-company-the-scottsdale-auctions-2/
LOCATION:Scottsdale Fashion Square\, 7014 East Camelback Road\, Scottsdale\, AZ\, 85251\, United States
CATEGORIES:Auto Auction
ATTACH;FMTTYPE=image/jpeg:https://www.highline-autos.com/wp-content/uploads/2018/11/Gooding__Company_The_Scottsdale_Auctions-scaled.jpg
END:VEVENT
END:VCALENDAR