BEGIN:VCALENDAR
VERSION:2.0
PRODID:-//Highline Autos - Your source for distinguished automobiles - ECPv6.15.18//NONSGML v1.0//EN
CALSCALE:GREGORIAN
METHOD:PUBLISH
X-ORIGINAL-URL:https://www.highline-autos.com
X-WR-CALDESC:Events for Highline Autos - Your source for distinguished automobiles
REFRESH-INTERVAL;VALUE=DURATION:PT1H
X-Robots-Tag:noindex
X-PUBLISHED-TTL:PT1H
BEGIN:VTIMEZONE
TZID:America/Phoenix
BEGIN:STANDARD
TZOFFSETFROM:-0700
TZOFFSETTO:-0700
TZNAME:MST
DTSTART:20180101T000000
END:STANDARD
END:VTIMEZONE
BEGIN:VEVENT
DTSTART;TZID=America/Phoenix:20250817T103000
DTEND;TZID=America/Phoenix:20250817T170000
DTSTAMP:20260419T082312
CREATED:20250625T190559Z
LAST-MODIFIED:20250625T191516Z
UID:10000533-1755426600-1755450000@www.highline-autos.com
SUMMARY:74th Pebble Beach Concours d’Elegance
DESCRIPTION:Join us on August 17\, 2025 for the 74th Pebble Beach Concours d’Elegance\nWatch style icons\, innovative prototypes\, and racing greats compete for the top prize in the collector car world\, while enjoying the camaraderie of auto enthusiasts from around the globe.\n\nAn Unmatched Tradition of Automotive Excellence  \nThe Pebble Beach Concours d’Elegance is the flagship of Pebble Beach Automotive Week. Begun in 1950 and now considered to be the world’s premier celebration of the automobile\, this is the ultimate event for every car enthusiast. \nEach year\, the finest collector cars gather on the 18th fairway of Pebble Beach Golf Links to compete to be named Best of Show — the ultimate award for automobiles. Experts critique their elegance\, technical merit\, and history. And crowds come from all corners of the globe to cheer their favorites. In tandem with the competition between extraordinary historic automobiles\, the Concours also serves as host to some of the most anticipated concepts and new car debuts. \nPebble Beach Concours d’Elegance Featured Marques & Classes \nThe Pebble Beach Concours d’Elegance continues to build on the expanded range and breadth of cars shown on its competition field. The forthcoming 74th Concours celebration\, on August 17\, 2025\, will feature three marques celebrating their centennials: Invicta\, Chrysler and Moretti. It will also display the dramatic postwar creations of designer Virgil Exner\, innovative racing greats of Formula 1 past and present\, and the 60th anniversary of the Shelby Cobra 427. \nClick Link for more information and to purchase your tickets: www.pebblebeachconcours.net
URL:https://www.highline-autos.com/event/74th-pebble-beach-concours-delegance/
LOCATION:Pebble Beach Golf Links\, 1700 17 Mile Dr\, Pebble Beach\, CA\, 93953
CATEGORIES:Auto Show
ATTACH;FMTTYPE=image/jpeg:https://www.highline-autos.com/wp-content/uploads/2025/06/2025-Pebble-Beach-Concours.jpg
END:VEVENT
BEGIN:VEVENT
DTSTART;TZID=America/Phoenix:20250814T090000
DTEND;TZID=America/Phoenix:20250816T180000
DTSTAMP:20260419T082312
CREATED:20250717T182050Z
LAST-MODIFIED:20250717T182050Z
UID:10000535-1755162000-1755367200@www.highline-autos.com
SUMMARY:Pebble Beach RetroAuto 2025
DESCRIPTION:Pebble Beach RetroAuto 2025 \nThe Destination for the True Automotive Enthusiast \nThursday\, August 14 – Saturday\, August 16\n9:00 am – 6:00 pm \nDiscover the Extraordinary at the RetroAuto Pavilion\nStep into a world of automotive elegance and rare finds at the RetroAuto Pavilion—where passion meets craftsmanship. Explore exclusive displays and curated merchandise from premier vendors around the globe\, all gathered in one unforgettable destination. Located in Concours Village and open to the public with no entry fee\, this is your chance to take home a unique piece of the legendary Pebble Beach Concours d’Elegance experience. \nBe amazed at the displays and merchandise our vendors from all over the world have to offer. Visit the RetroAuto Pavilion\, located in Concours Village (open to the public with no entry fee)\, and walk away with a piece of the Pebble Beach Concours d’Elegance. \nwww.pebblebeachconcours.net/events/pebble-beach-retroauto
URL:https://www.highline-autos.com/event/pebble-beach-retroauto-2025/
LOCATION:Pebble Beach Golf Links\, 1700 17 Mile Dr\, Pebble Beach\, CA\, 93953
CATEGORIES:Automotive Marketplace
ATTACH;FMTTYPE=image/jpeg:https://www.highline-autos.com/wp-content/uploads/2025/07/Pebble-Beach-RetroAuto-2025.jpg
END:VEVENT
BEGIN:VEVENT
DTSTART;TZID=America/Phoenix:20240818T103000
DTEND;TZID=America/Phoenix:20240818T170000
DTSTAMP:20260419T082312
CREATED:20240620T210815Z
LAST-MODIFIED:20240828T002118Z
UID:10000191-1723977000-1724000400@www.highline-autos.com
SUMMARY:Pebble Beach Concours d’Elegance 2024
DESCRIPTION:Join us Sunday\, August 18\, 2024 for the 73rd Pebble Beach Concours d’Elegance \nAn Unmatched Tradition of Automotive Excellence \nThe Pebble Beach Concours d’Elegance is the flagship of Pebble Beach Automotive Week. Begun in 1950 and now considered to be the world’s premier celebration of the automobile\, this is the ultimate event for every car enthusiast. \nEach year\, the finest collector cars gather on the 18th fairway of Pebble Beach Golf Links to compete to be named Best of Show — the ultimate award for automobiles. Experts critique their elegance\, technical merit\, and history. And crowds come from all corners of the globe to cheer their favorites. In tandem with the competition between extraordinary historic automobiles\, the Concours also serves as host to some of the most anticipated concepts and new car debuts. \nIn tandem with the competition between extraordinary historic automobiles\, the Concours also serves as host to some of the most anticipated concepts and new car debuts. And over the years\, Pebble Beach Automotive Week has grown to include many additional Pebble Beach Automotive Experiences for participants and spectators alike\, such as the Pebble Beach Tour d’Elegance presented by Rolex\, Pebble Beach RetroAuto\, Pebble Beach Classic Car Forum presented by Alliant Private Client\, and much more! \nSunday Schedule:Dawn: Show field opens to car entrants5:30 am Show field opens to spectators with a credential8:00 am Judging Commences1:30 pm–5:00 pm Awards Ceremony & Live Show \nClick For More Information and Tickets: https://pebblebeachconcours.net \n 
URL:https://www.highline-autos.com/event/pebble-beach-concours-delegance-2024/
LOCATION:Pebble Beach Golf Links\, 1700 17 Mile Dr\, Pebble Beach\, CA\, 93953
CATEGORIES:Auto Show
ATTACH;FMTTYPE=image/jpeg:https://www.highline-autos.com/wp-content/uploads/2024/06/Pebble-Beach-Concours-ad-2024.jpg
END:VEVENT
BEGIN:VEVENT
DTSTART;TZID=America/Phoenix:20230820T103000
DTEND;TZID=America/Phoenix:20230820T170000
DTSTAMP:20260419T082312
CREATED:20230601T230648Z
LAST-MODIFIED:20230601T235339Z
UID:10000153-1692527400-1692550800@www.highline-autos.com
SUMMARY:Pebble Beach Concours d’Elegance 2023
DESCRIPTION:Join us Saturday\, August 20\, 2023 for the 72st Pebble Beach Concours d’Elegance \n\n72 Years of Automotive Excellence \nThe Pebble Beach Concours d’Elegance is the flagship of Pebble Beach Automotive Week. Begun in 1950 and now considered to be the world’s premier celebration of the automobile\, this is the ultimate event for every car enthusiast. \nEach year\, the finest collector cars gather on the 18th fairway of Pebble Beach Golf Links to compete to be named Best of Show — the ultimate award for automobiles. Experts critique their elegance\, technical merit\, and history. And crowds come from all corners of the globe to cheer their favorites. In tandem with the competition between extraordinary historic automobiles\, the Concours also serves as host to some of the most anticipated concepts and new car debuts. \nThe featured image showcases the 2022 Winner of Best of Show at the 71st Pebble Beach Concours d’Elegance. 1932 Duesenberg J Figoni Sports Torpedo shown by Lee R. Anderson Sr. \nClick Link for more information and to purchase tickets: https://pebblebeachconcours.net/events/pebble-beach-concours-delegance
URL:https://www.highline-autos.com/event/pebble-beach-concours-delegance-7/
LOCATION:Pebble Beach Golf Links\, 1700 17 Mile Dr\, Pebble Beach\, CA\, 93953
CATEGORIES:Auto Show
ATTACH;FMTTYPE=image/jpeg:https://www.highline-autos.com/wp-content/uploads/2023/06/0.jpg
END:VEVENT
BEGIN:VEVENT
DTSTART;VALUE=DATE:20220821
DTEND;VALUE=DATE:20220822
DTSTAMP:20260419T082312
CREATED:20220623T190224Z
LAST-MODIFIED:20220623T191844Z
UID:10000127-1661040000-1661126399@www.highline-autos.com
SUMMARY:Pebble Beach Concours d’Elegance
DESCRIPTION:Join us Sunday\, August 21\, 2022 for the 71st Pebble Beach Concours d’Elegance \n71 Years of Automotive Excellence \nThe Pebble Beach Concours d’Elegance is the flagship of Pebble Beach Automotive Week. Begun in 1950 and now considered to be the world’s premier celebration of the automobile\, this is the ultimate event for every car enthusiast. \nEach year\, the finest collector cars gather on the 18th fairway of Pebble Beach Golf Links to compete to be named Best of Show — the ultimate award for automobiles. Experts critique their elegance\, technical merit\, and history. And crowds come from all corners of the globe to cheer their favorites. In tandem with the competition between extraordinary historic automobiles\, the Concours also serves as host to some of the most anticipated concepts and new car debuts. \nClick Link for more information and to purchase tickets: https://pebblebeachconcours.net/events/pebble-beach-concours-delegance
URL:https://www.highline-autos.com/event/pebble-beach-concours-delegance-6/
LOCATION:Pebble Beach Golf Links\, 1700 17 Mile Dr\, Pebble Beach\, CA\, 93953
CATEGORIES:Auto Show
ATTACH;FMTTYPE=image/jpeg:https://www.highline-autos.com/wp-content/uploads/2022/06/Pebble-Beach-2022.jpg
END:VEVENT
BEGIN:VEVENT
DTSTART;TZID=America/Phoenix:20210815T103000
DTEND;TZID=America/Phoenix:20210815T170000
DTSTAMP:20260419T082312
CREATED:20210515T230257Z
LAST-MODIFIED:20210517T234558Z
UID:10000077-1629023400-1629046800@www.highline-autos.com
SUMMARY:Pebble Beach Concours d'Elegance 2021
DESCRIPTION:70 Years of Automotive Excellence \nJoin us Sunday\, August 15\, 2021 for the 70th Pebble Beach Concours d’Elegance \nThe Pebble Beach Concours d’Elegance is the flagship of Pebble Beach Automotive Week. Begun in 1950 and now considered to be the world’s premier celebration of the automobile\, this is a can’t-miss event for every car enthusiast. \nEach year\, the finest collector cars gather on the 18th fairway of Pebble Beach Golf Links to compete to be named Best of Show — the ultimate award for automobiles. Experts critique their elegance\, technical merit\, and history. And crowds come from all corners of the globe to cheer their favorites. In tandem with the competition between extraordinary historic automobiles\, the Concours also serves as host to some of the most anticipated concepts and new car debuts. \nvisit www.pebblebeachconcours.net for more information and to purchase your tickets
URL:https://www.highline-autos.com/event/pebble-beach-concours-delegance-2021/
LOCATION:Pebble Beach Golf Links\, 1700 17 Mile Dr\, Pebble Beach\, CA\, 93953
CATEGORIES:Auto Show
ATTACH;FMTTYPE=image/jpeg:https://www.highline-autos.com/wp-content/uploads/2021/05/Pebble_Beach_2021.jpg
END:VEVENT
BEGIN:VEVENT
DTSTART;VALUE=DATE:20190817
DTEND;VALUE=DATE:20190819
DTSTAMP:20260419T082312
CREATED:20190406T130921Z
LAST-MODIFIED:20190406T131144Z
UID:10000024-1566036000-1566122399@www.highline-autos.com
SUMMARY:Pebble Beach Concours d'Elegance 2019
DESCRIPTION:Car collectors worldwide dream of competing at the Pebble Beach Concours d’Elegance\, where the famed 18th fairway of Pebble Beach Golf Links is the stage and the rolling Pacific Ocean serves as backdrop. \nBegun in 1950\, this concours is the top-ranking collector car competition in the world. It is also the event to which most other modern concours now trace their roots. Initially modeled on the early European concours that showcased new cars\, the Pebble Beach Concours shifted its focus to collector cars in 1955—and other concours followed suit. It has also taken the lead by including racing greats and offering featured marques and special classes as early as 1953\, introducing displays of dream cars and concepts in the 1980s\, and instituting driving events and emphasizing the importance of preservation in the 1990s. \nGuided by—and often driving—the interests of enthusiasts the world over\, this concours continues to set the bar for all others. \nThe concours d’elegance is not a contest of speed\, but of elegance. Automobiles are judged for their style and technical merit\, as well as their history\, their originality and the accuracy of their preservation or restoration—and the best garner reward and recognition. \nThe 2019 Pebble Beach Concours d’Elegance will featured the following marques and special classes among others:\n•Bentley Centennial\n•Zagato Centennial\n•Bugatti Type 59 & Touring\n•Historic Hot Rod “Cover Cars”\n•Additional features to be announced\nIn tandem with the competition between extraordinary historic automobiles\, the Concours also serves as gracious host to some of the world’s most anticipated concept and new car debuts each year. \n2019 CONCOURS DETAILS\nSunday\, August 18\, 2019  Dawn Field opens to entrants; Dawn Patrol viewers are not allowed onto the field until 5:30 am \n8:30 am Judging Commences \n10:30 am Field officially opens to general admission spectators \n1:30 pm – 5:00 pm Awards are presented \nLocation: The Lodge at Pebble Beach \nTo purchase tickets go to www.theconcoursstore.com
URL:https://www.highline-autos.com/event/pebble-beach-concours-delegance-2019/
LOCATION:Pebble Beach Golf Links\, 1700 17 Mile Dr\, Pebble Beach\, CA\, 93953
CATEGORIES:Auto Show
ATTACH;FMTTYPE=image/jpeg:https://www.highline-autos.com/wp-content/uploads/2019/04/Pebble_Beach_2018_Best_of_Show_Winner-2.jpg
END:VEVENT
END:VCALENDAR