BEGIN:VCALENDAR
VERSION:2.0
PRODID:-//Highline Autos - Your source for distinguished automobiles - ECPv6.15.18//NONSGML v1.0//EN
CALSCALE:GREGORIAN
METHOD:PUBLISH
X-ORIGINAL-URL:https://www.highline-autos.com
X-WR-CALDESC:Events for Highline Autos - Your source for distinguished automobiles
REFRESH-INTERVAL;VALUE=DURATION:PT1H
X-Robots-Tag:noindex
X-PUBLISHED-TTL:PT1H
BEGIN:VTIMEZONE
TZID:America/Phoenix
BEGIN:STANDARD
TZOFFSETFROM:-0700
TZOFFSETTO:-0700
TZNAME:MST
DTSTART:20200101T000000
END:STANDARD
END:VTIMEZONE
BEGIN:VEVENT
DTSTART;TZID=America/Phoenix:20211002T160000
DTEND;TZID=America/Phoenix:20211002T200000
DTSTAMP:20260419T113719
CREATED:20210929T043423Z
LAST-MODIFIED:20211002T212010Z
UID:10000095-1633190400-1633204800@www.highline-autos.com
SUMMARY:Pavilions at Talking Stick Rock 'n' Roll Car Show
DESCRIPTION:Pavilions at Talking Stick Rock ‘n’ Roll Classic Car Show near McDonald’s every Saturday\, 52 weeks of the year. Celebrating over 20 years!Hours: 4pm-8pm \nThis “Rock ‘n’ Roll McDonald’s” in Scottsdale is the perfect destination to see classic cars\, muscle cars\, sports cars and motorcycles in a free open air event complete with 50’s era music provided by “Party Time DJ’s. An average night showcases anywhere from 250 to 500 cars and up to 150 motorcycles. \n•Location: The Pavilions at Talking Stick\n•9175 East Indian Bend Road\nScottsdale\, Arizona 85250\n•Time: 4:00 pm to 8:00 pm\n•Admission: Free
URL:https://www.highline-autos.com/event/pavilions-at-talking-stick-rock-n-roll-car-show/
LOCATION:Pavilions at Talking Stick\, 9175 East Indian Bend Road\, Scottsdale\, 85250\, United States
CATEGORIES:Auto Show
ATTACH;FMTTYPE=image/jpeg:https://www.highline-autos.com/wp-content/uploads/2021/09/Pavilions_Rock_N_Roll_Car_Show.jpeg
END:VEVENT
END:VCALENDAR