BEGIN:VCALENDAR
VERSION:2.0
PRODID:-//Highline Autos - Your source for distinguished automobiles - ECPv6.15.18//NONSGML v1.0//EN
CALSCALE:GREGORIAN
METHOD:PUBLISH
X-ORIGINAL-URL:https://www.highline-autos.com
X-WR-CALDESC:Events for Highline Autos - Your source for distinguished automobiles
REFRESH-INTERVAL;VALUE=DURATION:PT1H
X-Robots-Tag:noindex
X-PUBLISHED-TTL:PT1H
BEGIN:VTIMEZONE
TZID:America/Phoenix
BEGIN:STANDARD
TZOFFSETFROM:-0700
TZOFFSETTO:-0700
TZNAME:MST
DTSTART:20180101T000000
END:STANDARD
END:VTIMEZONE
BEGIN:VEVENT
DTSTART;VALUE=DATE:20240815
DTEND;VALUE=DATE:20240818
DTSTAMP:20260419T082554
CREATED:20240718T193723Z
LAST-MODIFIED:20240718T193803Z
UID:10000197-1723680000-1723939199@www.highline-autos.com
SUMMARY:Mecum Auctions Monterey 2024
DESCRIPTION:Mecum Auctions Monterey 2024 – The Daytime Auction \nMecum returns to the Hyatt Regency Monterey Hotel and Spa on the Del Monte Golf Course August 15th – 17th during Monterey Car Week! 600+ Vehicles and 100 Motorcycles will run across the auction block over the 3 day auction. \nLocation\nHyatt Regency Monterey Hotel and Spa – Del Monte Golf Course\n1 Old Golf Course Road Monterey\, CA 93940 \nAuction Schedule\nSeller’s Check-in\nTuesday and Wednesday\, August 12-14 from 8 AM-6 PM\nAuction\nGates open daily at 8 AM\nGates close one hour after the final vehicle of the day crosses the block. \nVEHICLES\nThursday\, August 15 at 10 AM\nFriday and Saturday\, 16-17 at 9 AM \nAdmission & Parking\nGENERAL ADMISSION\nDAILY TICKET PRICE\n1 Day Ticket General Admission: $30 per person\, per day. (At the gate and online)\n3 Day Ticket General Admission: $75 per person good for all three days. (At the gate and online)\nChildren 12 years and younger get in free.\nAll Mecum admissions are sold on a nonrefundable basis. \nClick Link for more information: https://www.mecum.com/auctions/monterey-2024
URL:https://www.highline-autos.com/event/mecum-auctions-monterey-2024/
LOCATION:Hyatt Regency Monterey Hotel and Spa on Del Monte Golf Course\, 1 Old Golf Course Road\, Monterey\, CA\, 93940
CATEGORIES:Auto Auction
ATTACH;FMTTYPE=image/jpeg:https://www.highline-autos.com/wp-content/uploads/2024/07/Mecum-Monterey-2024.jpg
END:VEVENT
BEGIN:VEVENT
DTSTART;VALUE=DATE:20230817
DTEND;VALUE=DATE:20230820
DTSTAMP:20260419T082554
CREATED:20230601T234236Z
LAST-MODIFIED:20240622T005253Z
UID:10000154-1692230400-1692489599@www.highline-autos.com
SUMMARY:Mecum Monterey 2023
DESCRIPTION:Mecum Auctions Monterey 2023 – The Daytime Auction \nMecum returns to the Hyatt Regency Monterey Hotel and Spa on the Del Monte Golf Course August 17th – 19th during Monterey Car Week! 600+ Vehicles will run across the auction block over the 3 day auction. \nLocation\nHyatt Regency Monterey Hotel and Spa – Del Monte Golf Course \n1 Old Golf Course Road Monterey\, CA 93940 \nAuction Schedule\nSeller’s Check-in\nTuesday and Wednesday\, August 15-16 from 8 AM-6 PM\nAuction\nGates open daily at 8 AM  Gates close one hour after the final vehicle of the day crosses the block. \nVEHICLES\nThursday\, August 17 at 10 AM\nFriday and Saturday\, 18-19 at 9 AM \nSAFETY PROTOCOLS\nMecum Auctions staff will be adhering to local\, state and federal guidelines regarding COVID-19 and encourages customers to do so as well for their safety and others. \nAdmission & Parking\nGENERAL ADMISSION\nDAILY TICKET PRICE\nAdvance Ticket: $20 per person\, per day.\n(Advance Tickets sales offered until 11:59PM August 16\, 2023 CDT)\nOnce Auction Begins: $30 per person\, per day. (At the gate and online)\nChildren 12 years and younger get in free.\nAll Mecum admissions are sold on a nonrefundable basis. \nClick Link for more information: www.mecum.com/auctions/monterey-2023 \n\n 
URL:https://www.highline-autos.com/event/mecum-monterey-2023/
LOCATION:Hyatt Regency Monterey Hotel and Spa on Del Monte Golf Course\, 1 Old Golf Course Road\, Monterey\, CA\, 93940
CATEGORIES:Auto Auction
ATTACH;FMTTYPE=image/jpeg:https://www.highline-autos.com/wp-content/uploads/2023/06/Mecum-Auctions-Monterey-2023.jpg
ORGANIZER;CN="Mecum Autions":MAILTO:info@mecum.com
END:VEVENT
BEGIN:VEVENT
DTSTART;VALUE=DATE:20220818
DTEND;VALUE=DATE:20220821
DTSTAMP:20260419T082554
CREATED:20220623T175002Z
LAST-MODIFIED:20220623T175301Z
UID:10000126-1660780800-1661039999@www.highline-autos.com
SUMMARY:Mecum Monterey 2022
DESCRIPTION:Mecum Auctions Monterey 2022 – The Daytime Auction \nMecum returns to the Hyatt Regency Monterey Hotel and Spa on the Del Monte Golf Course August 18th – 20th during Monterey Car Week! 600+ Vehicles will run across the auction block over the 3 day auction. \nLocation\nHyatt Regency Monterey Hotel and Spa – Del Monte Golf Course 1 Old Golf Course Road Monterey\, CA 93940 \nAuction Schedule\nSeller’s Check-in\nTuesday and Wednesday\, August 16-17 from 8 AM-6 PM\nAuction\nGates open daily at 8 AM Gates close one hour after the final vehicle of the day crosses the block.  VEHICLES:\nThursday\, August 18 at 10 AM\nFriday and Saturday\, 19-20 at 9 AM \nSAFETY PROTOCOLS\nMecum Auctions staff will be adhering to local\, state and federal guidelines regarding COVID-19 and encourages customers to do so as well for their safety and others. \nAdmission & Parking\nGENERAL ADMISSION\nDAILY TICKET PRICE\nAdvance Ticket: $20 per person\, per day.\n(Advance Tickets sales offered until 11:59PM August 17\, 2022 CDT)\nOnce Auction Begins: $30 per person\, per day. (At the gate and online)\nChildren 12 years and younger get in free.\nAll Mecum admissions are sold on a nonrefundable basis. \nClick Link for more information: www.mecum.com/auctions/monterey-2022
URL:https://www.highline-autos.com/event/mecum-monterey-2022/
LOCATION:Hyatt Regency Monterey Hotel and Spa on Del Monte Golf Course\, 1 Old Golf Course Road\, Monterey\, CA\, 93940
CATEGORIES:Auto Auction
ATTACH;FMTTYPE=image/jpeg:https://www.highline-autos.com/wp-content/uploads/2022/06/Mecum-Monterey-2022.jpg
ORGANIZER;CN="Mecum Auctions":MAILTO:info@mecum.com
END:VEVENT
BEGIN:VEVENT
DTSTART;TZID=America/Phoenix:20210812T080000
DTEND;TZID=America/Phoenix:20210814T170000
DTSTAMP:20260419T082554
CREATED:20210515T233401Z
LAST-MODIFIED:20210729T222216Z
UID:10000078-1628755200-1628960400@www.highline-autos.com
SUMMARY:Mecum Monterey 2021
DESCRIPTION:Mecum Monterey 2021 is NOT to be missed! \nMecum is the world leader in live auctions of collector and classic cars\, antique motorcycles\, vintage tractors and Road Art memorabilia with events across the U.S. \nWhether you’re looking to browse the many classic cars or auction off one of your own\, there are ticket packages for any attendee. \nAuction gates open daily at 8 AM. Gates close one hour after the final vehicle of the day crosses the block. \nVEHICLES: 10 AM on Thursday\, August 12\, and 9 AM on Friday and Saturday\, August 13-14 \nSAFETY PROTOCOLS: Daily touch-free temperature screening will be required for all attendees and employees prior to entering the auction grounds. Anyone with a temperature greater than 100.4 degrees will not be permitted access. \nMasks will be mandatory for all Mecum employees\, exhibitors and all attendees. \nHand sanitizer stations will be conveniently located throughout the Hyatt Regency Monterey Hotel and Spa – Del Monte Golf Course. Frequent hand washing is highly recommended. \nAuction floor seating will be arranged to manage adequate social distancing. \nFor more information Click: www.mecum.com/auctions/monterey-2021
URL:https://www.highline-autos.com/event/mecum-monterey-2021/
LOCATION:Hyatt Regency Monterey Hotel and Spa on Del Monte Golf Course\, 1 Old Golf Course Road\, Monterey\, CA\, 93940
CATEGORIES:Auto Auction
ATTACH;FMTTYPE=image/jpeg:https://www.highline-autos.com/wp-content/uploads/2021/05/Mecum_Monterey_2021.jpg
ORGANIZER;CN="Mecum Auctions":MAILTO:info@mecum.com
END:VEVENT
BEGIN:VEVENT
DTSTART;VALUE=DATE:20190815
DTEND;VALUE=DATE:20190818
DTSTAMP:20260419T082554
CREATED:20190627T204202Z
LAST-MODIFIED:20190627T214311Z
UID:10000029-1565827200-1566086399@www.highline-autos.com
SUMMARY:Mecum Monterey 2019
DESCRIPTION:Mecum Monterey 2019 \nAugust 15th – 17th \nLocation\nHyatt Regency Monterey Hotel and Spa – Del Monte Golf Course 1 Old Golf Course Road Monterey\, CA 93940 \nAuction Schedule\nSeller’s Check-in\nTuesday and Wednesday\,  August 13-14 from 8 AM-6 PM \nAuction\nGates open daily at 8 AM \nVEHICLES:  Thursday through Saturday\, August 15-17 at 9 AM \nAs the number of vehicles crossing the auction block varies each day\, we are unable to publish a specific end time for any day of the auction. \nAdmission & Parking\nGENERAL ADMISSION\nDAILY TICKET PRICE\n•Advance Ticket: $20 per person\, per day.\n•(Advance Tickets sales offered until 11:59PM August 14\, 2019 CDT)\n•Once Auction Begins: $30 per person\, per day. (At the gate and online)\n•Children 12 years and younger get in free.\n•All Mecum admissions are sold on a nonrefundable basis. \nFor more information or to purchase tickets visit www.mecum.com or call (262) 275-5050
URL:https://www.highline-autos.com/event/mecum-monterey-2019/
LOCATION:Hyatt Regency Monterey Hotel and Spa on Del Monte Golf Course\, 1 Old Golf Course Road\, Monterey\, CA\, 93940
CATEGORIES:Auto Auction
ATTACH;FMTTYPE=image/jpeg:https://www.highline-autos.com/wp-content/uploads/2019/06/Mecum-Auctions-1.jpg
ORGANIZER;CN="Mecum Auctions":MAILTO:info@mecum.com
END:VEVENT
END:VCALENDAR