BEGIN:VCALENDAR
VERSION:2.0
PRODID:-//Highline Autos - Your source for distinguished automobiles - ECPv6.15.18//NONSGML v1.0//EN
CALSCALE:GREGORIAN
METHOD:PUBLISH
X-ORIGINAL-URL:https://www.highline-autos.com
X-WR-CALDESC:Events for Highline Autos - Your source for distinguished automobiles
REFRESH-INTERVAL;VALUE=DURATION:PT1H
X-Robots-Tag:noindex
X-PUBLISHED-TTL:PT1H
BEGIN:VTIMEZONE
TZID:America/Phoenix
BEGIN:STANDARD
TZOFFSETFROM:-0700
TZOFFSETTO:-0700
TZNAME:MST
DTSTART:20180101T000000
END:STANDARD
END:VTIMEZONE
BEGIN:VEVENT
DTSTART;VALUE=DATE:20190531
DTEND;VALUE=DATE:20190603
DTSTAMP:20260419T162931
CREATED:20190405T082536Z
LAST-MODIFIED:20190405T083040Z
UID:10000023-1559296800-1559469599@www.highline-autos.com
SUMMARY:Huntington Beach Concours d’Elegance
DESCRIPTION:34th Annual Huntington Beach Concours d’Elegance \nSaturday & Sunday June 1st – 2nd 2019 \nOver its thirty four year history\, the Huntington Beach Concours has grown to be one of the outstanding automotive events in Southern California. First staged in 1986\, the Concours has its home on the picturesque lawns of Huntington Beach Central Park in Huntington Beach. Central Park lies adjacent to the Huntington Beach Public Library & Cultural Resource Center at Talbert and Goldenwest. Our field of entrants includes the best domestic\, British\, European and Asian\, vintage to current automobiles and motorcycles. \nLive Entertainment | Food | Vendors | Programs for Children | Motorsport \nSaturday\, June 1\, 2019\nRods\, Customs\, and Rats in the Park \nSunday\, June 2\, 2019\nSpecial Salute to: Automobiles – Domestic: Pony Cars (1964 – 1972)    Automobiles – Imported:  All “Z” Cars\, Datsun and Nissan\nFeatured Motorcycles:  Honda 750 Four  BMW /2 (’55 to ’69) \n 
URL:https://www.highline-autos.com/event/huntington-beach-concours-delegance-2/
LOCATION:Huntington Central Park\, 18381 Goldenwest St\, Huntington Beach\, AZ\, 92648\, United States
CATEGORIES:Auto Show
ATTACH;FMTTYPE=image/jpeg:https://www.highline-autos.com/wp-content/uploads/2019/04/34th-Annual-Huntington_Beach_Concours_d_Elegance-2.jpg
END:VEVENT
END:VCALENDAR