BEGIN:VCALENDAR
VERSION:2.0
PRODID:-//Highline Autos - Your source for distinguished automobiles - ECPv6.15.18//NONSGML v1.0//EN
CALSCALE:GREGORIAN
METHOD:PUBLISH
X-WR-CALNAME:Highline Autos - Your source for distinguished automobiles
X-ORIGINAL-URL:https://www.highline-autos.com
X-WR-CALDESC:Events for Highline Autos - Your source for distinguished automobiles
REFRESH-INTERVAL;VALUE=DURATION:PT1H
X-Robots-Tag:noindex
X-PUBLISHED-TTL:PT1H
BEGIN:VTIMEZONE
TZID:America/Phoenix
BEGIN:STANDARD
TZOFFSETFROM:-0700
TZOFFSETTO:-0700
TZNAME:MST
DTSTART:20240101T000000
END:STANDARD
END:VTIMEZONE
BEGIN:VEVENT
DTSTART;VALUE=DATE:20250124
DTEND;VALUE=DATE:20250127
DTSTAMP:20260419T064730
CREATED:20250121T191055Z
LAST-MODIFIED:20250121T192125Z
UID:10000517-1737676800-1737935999@www.highline-autos.com
SUMMARY:MAG Auctions January 2025 Collector Car Auction
DESCRIPTION:MAG Auctions is a collector car auction featuring muscle cars\, street rods\, classic cars\, vintage cars\, and leading automobile products. \nLocation:\nCUBS STADIUM at Sloan Park\nMesa\, Arizona 2330 W Rio Salado Pkwy\, Mesa\, AZ 85201 \nJanuary 21st – January 23rd\n• 9am – 5pm Vehicle Check-in\n• 9am – 5pm Office Hours & Bidder Registration \nJanuary 24th – 26th\n• Memorabilia Auction @ 10AM\n• Vehicle auction to begin immediately after memorabilia\n• Doors Open @ 8am for Bidders / Consignors\n• Doors open @ 9am for General Admission \nAdmission:\n• Tickets can be purchased at the front gate\n• Doors open @ 9am for General Admission \nTickets:\n• General Admission: $10/day or $25 for 3 days\n• Military & First Responders: $5/day\n• Children 12 and under: Free \nBuying Information:\nYou may pre-register to bid in person now. Online bidding is handled through Proxibid. Online bidding registration will be available at a later time. \nCLICK Link for More: https://www.motorsportauctiongroup.com/details/188/2025-january-collector-car-auction
URL:https://www.highline-autos.com/event/mag-auctions-january-2025-collector-car-auction/
LOCATION:Cubs Stadium at Sloan Park\, 2330 W Rio Salado Pkwy\, Mesa\, AZ\, 85201\, United States
CATEGORIES:Auto Auction
ATTACH;FMTTYPE=image/jpeg:https://www.highline-autos.com/wp-content/uploads/2025/01/MAG-Auctions-Arizona-2025.jpeg
END:VEVENT
END:VCALENDAR