BEGIN:VCALENDAR
VERSION:2.0
PRODID:-//Highline Autos - Your source for distinguished automobiles - ECPv6.15.18//NONSGML v1.0//EN
CALSCALE:GREGORIAN
METHOD:PUBLISH
X-ORIGINAL-URL:https://www.highline-autos.com
X-WR-CALDESC:Events for Highline Autos - Your source for distinguished automobiles
REFRESH-INTERVAL;VALUE=DURATION:PT1H
X-Robots-Tag:noindex
X-PUBLISHED-TTL:PT1H
BEGIN:VTIMEZONE
TZID:America/Phoenix
BEGIN:STANDARD
TZOFFSETFROM:-0700
TZOFFSETTO:-0700
TZNAME:MST
DTSTART:20200101T000000
END:STANDARD
END:VTIMEZONE
BEGIN:VEVENT
DTSTART;TZID=America/Phoenix:20231014T170000
DTEND;TZID=America/Phoenix:20231014T213000
DTSTAMP:20260419T113720
CREATED:20230927T212705Z
LAST-MODIFIED:20231001T002715Z
UID:10000166-1697302800-1697319000@www.highline-autos.com
SUMMARY:RADwood Southwest 2023
DESCRIPTION:RADwood – The premiere automotive lifestyle event celebrating the 80s and 90s! \nRADwood Southwest at Radford Racing School in Chandler\, AZ \nOctober 14th\, 2023 from 5:00 – 9:30 PM \n20% OFF TICKET(S) DISCOUNT CODE: HLXRW20  \nGET YOUR TICKETS HERE: https://www.showclix.com/tickets/radwood-southwest-2023 \nWebsite: www.radwood.com \nThis is RADwood’s first ever show in Arizona and we couldn’t be more stoked to team up with Radford Racing School at their world class facility. This will be an evening show\, with the setting sun\, under the lights. We can’t wait to see what rad rides come out of the desert! \nRADwood is a celebration of ’80s and ’90s automotive lifestyle. The car show that blends period correct dress with automotive awesomeness. An event for cars\, trucks\, and bikes from 1980-1999 that captures the essence of a bodacious era. Wear your best ’80s and ’90s clothing and bring your rollerblades or BMX bike\, because it’s going to get RAD! \nRegister for the event with your 1980-1999 car for $35 or motorcycle for $25. (Entry for cars not pre-registered will be $40 at the gate if spots are still available- we expect this event to sell out ahead of time). \n“RADwood Royalty” vehicles represent the ultimate essence of the era and are subject to organizer approval. Royalty tickets are $100 and include early show entry + showcase parking + a limited edition RADwood t-shirt. \nNOTE: Only purchase vehicle display tickets if you agree to stay till the end of the event. The awards ceremony begins at time here. \nDon’t have a RADwood Era ride? Show up in your best period correct attire and aim to win the RADDEST Dressed award! \nGeneral spectator admission is $20 per person in advance\, kids 12 and under get RAD for free! (Entry for General admission will be $25 at the gate and day of). Event to run rain or shine. \n20% OFF TICKET(S) DISCOUNT CODE: HLXRW20  \nGET YOUR TICKETS HERE: https://www.showclix.com/tickets/radwood-southwest-2023 \n———————— \nAgenda \n3:00pm – 4:00pm: RADWOOD ROYALTY vehicles to load-in \n4:00pm – 5:00pm: STANDARD SHOW CARS to load-in5:00pm: RADWOOD OPEN TO SPECTATORS \n8:30pm: AWARDS PRESENTATION – 9 awards including Raddest Dressed \n9:30pm: SHOW ENDS
URL:https://www.highline-autos.com/event/radwood-southwest-2023/
LOCATION:Radford Racing School\, 20000 S. Maricopa Rd.\, Gate #3\, Chandler\, AZ\, 85226\, United States
CATEGORIES:Auto Show
ATTACH;FMTTYPE=image/jpeg:https://www.highline-autos.com/wp-content/uploads/2023/09/RADwood-Southwest-2023.jpg
END:VEVENT
BEGIN:VEVENT
DTSTART;TZID=America/Phoenix:20220611T073000
DTEND;TZID=America/Phoenix:20220611T103000
DTSTAMP:20260419T113720
CREATED:20220518T234615Z
LAST-MODIFIED:20220519T000401Z
UID:10000123-1654932600-1654943400@www.highline-autos.com
SUMMARY:Cars & Coffee with goldRush Rally at Radford Racing School
DESCRIPTION:Join Us For Cars & Coffee with goldRush Rally at Radford Racing School Saturday June 11th from 7:30 am to 10.30 am! This is the second stop for the goldRush Rally “One More Run Against The Sun” GR2022 Rally. Come as a spectator to watch the goldRush Rally participants take their cars on the track or bring your specialty car to park in the show car section. Entrance and parking are free. \nIn Partnership With:\n-Barrett-Jackson: www.barrett-jackson.com\n-Creative Bespoke: www.creativebespoke.com\n-FF Performance: www.ffperformance.co\n-Highline Autos: www.highline-autos.com\n-Launch Autosports: www.launchautosports.com \nLocation\nRadford Racing School:\n20000 South Maricopa Road #3\nChandler\, AZ 85226\nwww.radfordracingschool.com \ngoldRush Rally\nwww.goldrushrally.com
URL:https://www.highline-autos.com/event/cars-coffee-with-goldrush-rally-at-radford-racing-school/
LOCATION:Radford Racing School\, 20000 S. Maricopa Rd.\, Gate #3\, Chandler\, AZ\, 85226\, United States
CATEGORIES:Auto Show
ATTACH;FMTTYPE=image/jpeg:https://www.highline-autos.com/wp-content/uploads/2022/05/Highline_Autos_goldRush_Rally_Cars_and_Coffee.jpg
END:VEVENT
BEGIN:VEVENT
DTSTART;VALUE=DATE:20210313
DTEND;VALUE=DATE:20210315
DTSTAMP:20260419T113720
CREATED:20210216T223849Z
LAST-MODIFIED:20210216T224612Z
UID:10000068-1615593600-1615766399@www.highline-autos.com
SUMMARY:Taste of Motorsports
DESCRIPTION:March 13th & 14th\nBondurant High Performance Driving School \nChandler\, Arizona \n•Demo Experience\n•Gourmet Food\n•Concours\n•Cocktail hour\n•Driving Tour \nA Luxury Experience \nTaste of Motorsports is a truly unique experiential event combining premier sportscar offerings\, gourmet food and a curated concours d’elegance all taking place at world class racetracks. \nA key feature of Taste of Motorsports is our “Demo Experience” offering the perfect environment to evaluate your next performance car purchase. Attendees can learn\, explore and experience from an insiders perspective with the safety of doing so on a proper racetrack. \nNo other event matches Taste’s combination of offerings with the opportunity to experience and explore a curated collection of exotic cars\, savor delicious gourmet food and drink\, and socialize with others who enjoy a rarified lifestyle and understand the passion for luxury automobiles and collect because they respect the design and engineering that these cars offer to those who can appreciate their value. \nClick to Visit and learn more or purchase tickets: www.tasteofmotorsports.com
URL:https://www.highline-autos.com/event/taste-of-motorsports/
LOCATION:Radford Racing School\, 20000 S. Maricopa Rd.\, Gate #3\, Chandler\, AZ\, 85226\, United States
CATEGORIES:Luxury Lifestyle Event
ATTACH;FMTTYPE=image/jpeg:https://www.highline-autos.com/wp-content/uploads/2021/02/Taste_of_Motorsports_2021.jpg
END:VEVENT
END:VCALENDAR