BEGIN:VCALENDAR
VERSION:2.0
PRODID:-//Highline Autos - Your source for distinguished automobiles - ECPv6.15.18//NONSGML v1.0//EN
CALSCALE:GREGORIAN
METHOD:PUBLISH
X-WR-CALNAME:Highline Autos - Your source for distinguished automobiles
X-ORIGINAL-URL:https://www.highline-autos.com
X-WR-CALDESC:Events for Highline Autos - Your source for distinguished automobiles
REFRESH-INTERVAL;VALUE=DURATION:PT1H
X-Robots-Tag:noindex
X-PUBLISHED-TTL:PT1H
BEGIN:VTIMEZONE
TZID:America/Phoenix
BEGIN:STANDARD
TZOFFSETFROM:-0700
TZOFFSETTO:-0700
TZNAME:MST
DTSTART:20210101T000000
END:STANDARD
END:VTIMEZONE
BEGIN:VEVENT
DTSTART;TZID=America/Phoenix:20220819T100000
DTEND;TZID=America/Phoenix:20220819T160000
DTSTAMP:20260419T165423
CREATED:20220712T213724Z
LAST-MODIFIED:20220712T221645Z
UID:10000129-1660903200-1660924800@www.highline-autos.com
SUMMARY:The Quail\, A Motorsports Gathering 2022
DESCRIPTION:For nineteen years\, The Quail\, A Motorsports Gathering has provided an unparalleled and exclusive experience for motorsports enthusiasts and collectors from around the world to enjoy rare collections of fine automobiles and motorcycles in a garden-party setting on the rolling greens of Quail Lodge & Golf Club. \nHeld in conjunction with The Quail\, A Motorsports Gathering\, is the 25th Annual Bonhams Motorcar Auction on the western grounds of Quail Lodge & Golf Club offering easy access\, plenty of convenient parking\, and lots of sunshine amidst the famous Carmel scenery. \nThe Quail will continue to create an enhanced experience for attendees and sponsors alike. Guests will enjoy exquisite motorcars on display and culinary pavilions\, with the ease of onsite parking. \nFeatured Themes for 2022 \n\n50th Anniversary of the BMW M Division\nAll Things MINI Cooper\n70 Years of Jaguar and their Wins at Le Mans\n\nTraditional Classes \n\n\nPre-War Sports & Racing\nPost-War Sports\nPost-War Racing\nThe Evolution of the Supercar\nThe Great Ferraris\nCustom Coachwork\nSports and Racing Motorcycles\n\nClick Link for more information: www.peninsula.com/en/signature-events/events/motorsports \n\n 
URL:https://www.highline-autos.com/event/the-quail-a-motorsports-gathering-2022/
LOCATION:Quail Lodge & Golf Club\, Carmel\, California
CATEGORIES:Auto Show
ATTACH;FMTTYPE=image/jpeg:https://www.highline-autos.com/wp-content/uploads/2022/07/The-Quail-a-Motorsport-Gathering.jpg
END:VEVENT
END:VCALENDAR