BEGIN:VCALENDAR
VERSION:2.0
PRODID:-//Highline Autos - Your source for distinguished automobiles - ECPv6.15.18//NONSGML v1.0//EN
CALSCALE:GREGORIAN
METHOD:PUBLISH
X-WR-CALNAME:Highline Autos - Your source for distinguished automobiles
X-ORIGINAL-URL:https://www.highline-autos.com
X-WR-CALDESC:Events for Highline Autos - Your source for distinguished automobiles
REFRESH-INTERVAL;VALUE=DURATION:PT1H
X-Robots-Tag:noindex
X-PUBLISHED-TTL:PT1H
BEGIN:VTIMEZONE
TZID:America/Phoenix
BEGIN:STANDARD
TZOFFSETFROM:-0700
TZOFFSETTO:-0700
TZNAME:MST
DTSTART:20200101T000000
END:STANDARD
END:VTIMEZONE
BEGIN:VEVENT
DTSTART;VALUE=DATE:20220122
DTEND;VALUE=DATE:20220131
DTSTAMP:20260419T081138
CREATED:20211110T011847Z
LAST-MODIFIED:20211129T185901Z
UID:10000099-1642809600-1643587199@www.highline-autos.com
SUMMARY:Barrett-Jackson Scottsdale 2022 Auction
DESCRIPTION:Barrett-Jackson returns to WestWorld of Scottsdale the week of January 22nd – 30th\, 2022 for their 50th Annual Scottsdale Auction! You do not want to miss this world-class automotive lifestyle event where thousands of the world’s most sought-after\, unique and valuable automobiles cross the block in front of a global audience — in person and on live national and international television on FYI and HISTORY\, as well as on the enhanced live stream on Barrett-Jackson.com. Witness auction action at its best\, capture the car of your dreams\, experience adrenaline-pumping thrill rides\, shop in the vast Exhibitor Marketplace and more. \nFor more information\, to consign your vehicle\, and to purchase tickets visit Barrett-Jackson.com today!
URL:https://www.highline-autos.com/event/barrett-jackson-scottsdale-2022-auction/
LOCATION:WestWorld of Scottsdale\, 16601 North Pima Road\, Scottsdale\, AZ\, 85260\, United States
CATEGORIES:Auto Auction
ATTACH;FMTTYPE=image/jpeg:https://www.highline-autos.com/wp-content/uploads/2021/11/Barrett_Jackson_Scottsdale_2022.jpg
GEO:33.6352339;-111.8897684
X-APPLE-STRUCTURED-LOCATION;VALUE=URI;X-ADDRESS=WestWorld of Scottsdale 16601 North Pima Road Scottsdale AZ 85260 United States;X-APPLE-RADIUS=500;X-TITLE=16601 North Pima Road:geo:-111.8897684,33.6352339
END:VEVENT
BEGIN:VEVENT
DTSTART;VALUE=DATE:20210916
DTEND;VALUE=DATE:20210919
DTSTAMP:20260419T081138
CREATED:20210719T232440Z
LAST-MODIFIED:20210719T233139Z
UID:10000086-1631750400-1632009599@www.highline-autos.com
SUMMARY:Barrett-Jackson Houston 2021
DESCRIPTION:Barrett-Jackson is heading to Houston\, Texas! The September 16-18\, 2021\, inaugural event held at NRG Center marks Barrett-Jackson’s first collector car auction in the Lone Star State\, which will feature a broad range of vintage\, customs\, supercars and late-model vehicles\, as well as authentic automobilia pieces. \nWidely regarded as a barometer of the collector car industry\, the auctions have evolved over the years into world-class automotive lifestyle events where thousands of the world’s most sought-after\, unique and valuable automobiles cross the block in front of a global audience — in person and on live national and international television on FYI and HISTORY\, as well as on the enhanced live stream on Barrett-Jackson.com. Witness auction action at its best\, capture the car of your dreams\, experience adrenaline-pumping thrill rides\, shop in the vast Exhibitor Marketplace and more. \nBarrett-Jackson will be working closely with federal\, state and local authorities to ensure any COVID restrictions in place at the time are closely adhered to. For more information\, visit Barrett-Jackson.com.
URL:https://www.highline-autos.com/event/barrett-jackson-houston-2021/
LOCATION:NRG Center\, 1 NRG Park\, Houston\, TX\, 77054\, United States
CATEGORIES:Auto Auction
ATTACH;FMTTYPE=image/jpeg:https://www.highline-autos.com/wp-content/uploads/2021/07/Barrett_Jackson_Inaugural_Houston_Auction.jpg
END:VEVENT
END:VCALENDAR